BEGIN:VCALENDAR
VERSION:2.0
PRODID:-//Tukios.com/
BEGIN:VEVENT
UID:27d72feb-4da4-4acd-91f3-8165dbdc61c1@www.nolanfidale.com
DTSTAMP:20260423T000028Z
DTSTART:20260502T153000Z
DTEND:20260502T163000Z
SUMMARY:Funeral Mass
DESCRIPTION:
URL:https://www.nolanfidale.com/obituaries/carter-wilson
LOCATION:St. Thomas the Apostle 430 Valleybrook Road  Glen Mills PA 19342
GEO:39.8904271;-75.4740704
END:VEVENT
END:VCALENDAR