BEGIN:VCALENDAR
VERSION:2.0
PRODID:-//Tukios.com/
BEGIN:VEVENT
UID:1c117aa6-6a9c-45bb-8d4b-6ceb3de618d4@www.nolanfidale.com
DTSTAMP:20260422T235549Z
DTSTART:20260502T140000Z
DTEND:20260502T151500Z
SUMMARY:Public Visitation
DESCRIPTION:
URL:https://www.nolanfidale.com/obituaries/carter-wilson
LOCATION:St. Thomas the Apostle 430 Valleybrook Road  Glen Mills PA 19342
GEO:39.8904271;-75.4740704
END:VEVENT
END:VCALENDAR