BEGIN:VCALENDAR
VERSION:2.0
PRODID:-//Tukios.com/
BEGIN:VEVENT
UID:8e16d7cf-04d8-475f-b497-7e2737e63a5f@www.nolanfidale.com
DTSTAMP:20260422T235716Z
DTSTART:20260501T220000Z
DTEND:20260502T000000Z
SUMMARY:Public Visitation
DESCRIPTION:
URL:https://www.nolanfidale.com/obituaries/carter-wilson
LOCATION:Nolan-Fidale Funeral Home 5980 Chichester Ave  Aston PA 19014
GEO:39.8673221;-75.4616461
END:VEVENT
END:VCALENDAR