BEGIN:VCALENDAR
VERSION:2.0
PRODID:-//Tukios.com/
BEGIN:VEVENT
UID:edc7e115-a51d-42f5-b590-8fcd2f93020d@www.nolanfidale.com
DTSTAMP:20260421T004120Z
DTSTART:20260425T163000Z
DTEND:20260425T164500Z
SUMMARY:Burial
DESCRIPTION:
URL:https://www.nolanfidale.com/obituaries/denise-shaeffer
LOCATION:St. Patrick Cemetery 460 N. Union Street  Kennett Square PA 
	19348
GEO:39.855307;-75.712908
END:VEVENT
END:VCALENDAR