BEGIN:VCALENDAR
VERSION:2.0
PRODID:-//Tukios.com/
BEGIN:VEVENT
UID:240d78a5-c0c5-40d5-a9be-6f1799b35c16@www.nolanfidale.com
DTSTAMP:20260421T003511Z
DTSTART:20260425T150000Z
DTEND:20260425T160000Z
SUMMARY:Funeral Mass
DESCRIPTION:
URL:https://www.nolanfidale.com/obituaries/denise-shaeffer
LOCATION:Assumption of the Blessed Virgin Mary 300 State Road  West Grove 
	PA 19390
GEO:39.8163619;-75.8178591
END:VEVENT
END:VCALENDAR