BEGIN:VCALENDAR
VERSION:2.0
PRODID:-//Tukios.com/
BEGIN:VEVENT
UID:8d23a0c3-46cf-4fda-b852-3d5c319af5a2@www.nolanfidale.com
DTSTAMP:20260421T004121Z
DTSTART:20260425T133000Z
DTEND:20260425T144500Z
SUMMARY:Public Visitation
DESCRIPTION:
URL:https://www.nolanfidale.com/obituaries/denise-shaeffer
LOCATION:Assumption of the Blessed Virgin Mary 300 State Road  West Grove 
	PA 19390
GEO:39.8163619;-75.8178591
END:VEVENT
END:VCALENDAR