BEGIN:VCALENDAR
VERSION:2.0
PRODID:-//Tukios.com/
BEGIN:VEVENT
UID:d04930b6-ce7d-478b-9c75-3a9fc4851c23@www.nolanfidale.com
DTSTAMP:20260423T174513Z
DTSTART:20260428T133000Z
DTEND:20260428T144500Z
SUMMARY:Public Visitation
DESCRIPTION:
URL:https://www.nolanfidale.com/obituaries/lawrence-paoletti
LOCATION:Our Lady of Charity Church 231 Upland Rd  Brookhaven PA 19015
GEO:39.8635767;-75.381323
END:VEVENT
END:VCALENDAR