BEGIN:VCALENDAR
VERSION:2.0
PRODID:-//Tukios.com/
BEGIN:VEVENT
UID:8300f0b7-c263-4541-8ae5-6e487b2be8fe@www.nolanfidale.com
DTSTAMP:20260423T174442Z
DTSTART:20260428T150000Z
DTEND:20260428T160000Z
SUMMARY:Funeral Mass
DESCRIPTION:
URL:https://www.nolanfidale.com/obituaries/lawrence-paoletti
LOCATION:Our Lady of Charity Church 231 Upland Rd  Brookhaven PA 19015
GEO:39.8635767;-75.381323
END:VEVENT
END:VCALENDAR