BEGIN:VCALENDAR
VERSION:2.0
PRODID:-//Tukios.com/
BEGIN:VEVENT
UID:dc0f83b5-7d7b-482e-b467-f28c260cabc5@www.nolanfidale.com
DTSTAMP:20260425T023304Z
DTSTART:20260516T153000Z
DTEND:20260516T160000Z
SUMMARY:Eulogy Service
DESCRIPTION:
URL:https://www.nolanfidale.com/obituaries/robert-purdy
LOCATION:Nolan-Fidale Funeral Home 5980 Chichester Ave  Aston PA 19014
GEO:39.8673221;-75.4616461
END:VEVENT
END:VCALENDAR