BEGIN:VCALENDAR
VERSION:2.0
PRODID:-//Tukios.com/
BEGIN:VEVENT
UID:2c354366-6410-47dd-b98e-83452912d9a8@www.nolanfidale.com
DTSTAMP:20260425T022718Z
DTSTART:20260516T143000Z
DTEND:20260516T153000Z
SUMMARY:Public Visitation
DESCRIPTION:
URL:https://www.nolanfidale.com/obituaries/robert-purdy
LOCATION:Nolan-Fidale Funeral Home 5980 Chichester Ave  Aston PA 19014
GEO:39.8673221;-75.4616461
END:VEVENT
END:VCALENDAR